BEGIN:VCALENDAR
VERSION:2.0
PRODID:-//LightWorks - ECPv6.7.0//NONSGML v1.0//EN
CALSCALE:GREGORIAN
METHOD:PUBLISH
X-WR-CALNAME:LightWorks
X-ORIGINAL-URL:https://www.light-works.nu
X-WR-CALDESC:Evenementen voor LightWorks
REFRESH-INTERVAL;VALUE=DURATION:PT1H
X-Robots-Tag:noindex
X-PUBLISHED-TTL:PT1H
BEGIN:VTIMEZONE
TZID:Europe/Helsinki
BEGIN:DAYLIGHT
TZOFFSETFROM:+0200
TZOFFSETTO:+0300
TZNAME:EEST
DTSTART:20130331T010000
END:DAYLIGHT
BEGIN:STANDARD
TZOFFSETFROM:+0300
TZOFFSETTO:+0200
TZNAME:EET
DTSTART:20131027T010000
END:STANDARD
BEGIN:DAYLIGHT
TZOFFSETFROM:+0200
TZOFFSETTO:+0300
TZNAME:EEST
DTSTART:20140330T010000
END:DAYLIGHT
BEGIN:STANDARD
TZOFFSETFROM:+0300
TZOFFSETTO:+0200
TZNAME:EET
DTSTART:20141026T010000
END:STANDARD
BEGIN:DAYLIGHT
TZOFFSETFROM:+0200
TZOFFSETTO:+0300
TZNAME:EEST
DTSTART:20150329T010000
END:DAYLIGHT
BEGIN:STANDARD
TZOFFSETFROM:+0300
TZOFFSETTO:+0200
TZNAME:EET
DTSTART:20151025T010000
END:STANDARD
BEGIN:DAYLIGHT
TZOFFSETFROM:+0200
TZOFFSETTO:+0300
TZNAME:EEST
DTSTART:20160327T010000
END:DAYLIGHT
BEGIN:STANDARD
TZOFFSETFROM:+0300
TZOFFSETTO:+0200
TZNAME:EET
DTSTART:20161030T010000
END:STANDARD
BEGIN:DAYLIGHT
TZOFFSETFROM:+0200
TZOFFSETTO:+0300
TZNAME:EEST
DTSTART:20170326T010000
END:DAYLIGHT
BEGIN:STANDARD
TZOFFSETFROM:+0300
TZOFFSETTO:+0200
TZNAME:EET
DTSTART:20171029T010000
END:STANDARD
END:VTIMEZONE
BEGIN:VEVENT
DTSTART;TZID=Europe/Helsinki:20170817T193000
DTEND;TZID=Europe/Helsinki:20170817T203000
DTSTAMP:20260423T091132
CREATED:20170414T101638Z
LAST-MODIFIED:20170716T200440Z
UID:3196-1502998200-1503001800@www.light-works.nu
SUMMARY:Webinar Verlicht Werken
DESCRIPTION:OVER VERLICHT WERKEN\nDoe mee met het GRATIS webinar. Je leert de lessen om te manifesteren en connecten. Je zet de belangrijkste dingen in beweging die leiden tot jouw droomleven. \nJE LEERT:\n✔ Ontspannen te werken vanuit jouw eigen inspiratie\n✔ De waarde die jij biedt om te zetten in een tien keer grotere financiële beloning\, dankzij ‘alignment’ met spirituele wetten. Er zijn verschillende manieren om overvloed te creëren\, en die krijg je aangereikt.\n✔ Eenvoudige scripts om met jezelf te communiceren en vanuit inspiratie in actie te komen en te blijven.\n✔ Doeltreffende manieren om je energie bij je te houden en energetische leegloop te voorkomen.\n✔ Het drie sprongen model\, om echt verlicht te werken.\n✔ Zeven stappen naar ultiem geluk\n✔ Het geheim van duurzaam realiseren van resultaat\n✔ Yoga-\, meditatie- en mindfullness oefeningen voor het optimaliseren van de verbinding met jezelf en het genieten van innerlijk geluk. \nDIT ERVAAR JE NA AFLOOP VAN HET WEBINAR:\n✔ Je bent gemotiveert om een (door)start te maken en direct al één of meerdere resultaten te boeken.\n✔ Je ervaart dat je moeitelozer leeft en werkt.\n✔ Je bent sterker en kunt meer incasseren\, zonder jouw gevoeligheid te verliezen.\n✔ Je gevoel van eigenwaarde is gegroeid.\n✔ Je gaat een laag dieper in je werk en relaties. Jouw gevoel van connectie en/ of intiemiteit neemt toe\n✔ Jouw “3 p’s” hebben een sensationele boost gekregen: prestige\, poen en plezier!\n✔ Jouw werk en privé leven worden meer lonend\, leuk en leerzaam\n✔ Je hebt gelijkgestemden ‘leren kennen’ en jouw netwerk is aanzienlijk gegroeid. \nHeb je ook behoefte aan meer geluk\, impact & inkomsten (als werknemer\, werkgever\, ondernemer of gewoon voor jou persoonlijk)? En wil je dit op een ontspannen manier en vanuit jouw eigen inspiratie doen en blijven doen? Schrijf je hier voor de GRATIS webinar. \n 
URL:https://www.light-works.nu/event/webinar-verlicht-werken-2/
END:VEVENT
BEGIN:VEVENT
DTSTART;TZID=Europe/Helsinki:20170709T100000
DTEND;TZID=Europe/Helsinki:20170709T170000
DTSTAMP:20260423T091132
CREATED:20170619T110937Z
LAST-MODIFIED:20170619T110937Z
UID:3639-1499594400-1499619600@www.light-works.nu
SUMMARY:Workshop Verlicht Werken
DESCRIPTION:Je leert in de workshop hoe je contact met jezelf kunt ervaren en vervolgens verankeren. Niet alleen tijdens uren yoga of mediatie\, maar juist in het heetst van de strijd! Bij die enerverende business meeting. Op momenten dat je jezelf en je diensten moet verkopen. En andersom. Je wordt glashelder in je denken en weet precies wat je moet doen. Overvloed stroomt moeiteloos naar jou toe\, ook emotionee & financieel\, en door jou heen de wereld in. \nHoe je dit allemaal doet\, leer je stapsgewijs tijdens deze uitzonderlijke workshop. De trainers\, manifestatie-expert Shanti Silos en Kundalini coach Chiara van den Berg\, putten uit jarenlange ervaring hoe je jezelf met behulp van spirituele wetten in de wereld kunt zetten. En dat het écht kan\, overvloed manifesteren! \nDe workshop vindt plaats op 9 juli @ De Lindewei in Leiden. We verzorgen een optionele gezonde en lekkere Surinaamse lunch met gerechten uit het Happy & Healthy @ Home kookboek voor €9. Dit is geen verplichting\, dus je mag ook je eigen lunch meenemen. De investering bedraagt €75 (normaal bedraagt deze workshop €175). Schrijf jij je in voor 2 juli dan ontvang je 20% korting en betaal je €60 en schrijf je met zijn tweeën tegelijk in krijg je allebei een korting van €10. \nInschrijven voor deze workshop doe je hier: https://www.verlichtwerken.nl/agenda/workshop-verlich…rken-9-juli-2017/
URL:https://www.light-works.nu/event/workshop-verlicht-werken-2/
LOCATION:De Lindewei\, Jacob Catslaan 12\, Leiden
END:VEVENT
BEGIN:VEVENT
DTSTART;TZID=Europe/Helsinki:20170629T193000
DTEND;TZID=Europe/Helsinki:20170629T203000
DTSTAMP:20260423T091132
CREATED:20170619T112047Z
LAST-MODIFIED:20170619T112047Z
UID:3645-1498764600-1498768200@www.light-works.nu
SUMMARY:Webinar Verlicht Werken
DESCRIPTION:SHANTI & JASPER OVER VERLICHT WERKEN\nDoe mee met het GRATIS webinar. Je leert de lessen om te manifesteren en connecten. Je zet de belangrijkste dingen in beweging die leiden tot jouw droomleven. \nJE LEERT:\n✔ Ontspannen te werken vanuit jouw eigen inspiratie\n✔ De waarde die jij biedt om te zetten in een tien keer grotere financiële beloning\, dankzij ‘alignment’ met spirituele wetten. Er zijn verschillende manieren om overvloed te creëren\, en die krijg je aangereikt.\n✔ Eenvoudige scripts om met jezelf te communiceren en vanuit inspiratie in actie te komen en te blijven.\n✔ Doeltreffende manieren om je energie bij je te houden en energetische leegloop te voorkomen.\n✔ Het drie sprongen model\, om echt verlicht te werken.\n✔ Zeven stappen naar ultiem geluk\n✔ Het geheim van duurzaam realiseren van resultaat\n✔ Yoga-\, meditatie- en mindfullness oefeningen voor het optimaliseren van de verbinding met jezelf en het genieten van innerlijk geluk. \nDIT ERVAAR JE NA AFLOOP VAN HET WEBINAR:\n✔ Je bent gemotiveert om een (door)start te maken en direct al één of meerdere resultaten te boeken.\n✔ Je ervaart dat je moeitelozer leeft en werkt.\n✔ Je bent sterker en kunt meer incasseren\, zonder jouw gevoeligheid te verliezen.\n✔ Je gevoel van eigenwaarde is gegroeid.\n✔ Je gaat een laag dieper in je werk en relaties. Jouw gevoel van connectie en/ of intiemiteit neemt toe\n✔ Jouw “3 p’s” hebben een sensationele boost gekregen: prestige\, poen en plezier!\n✔ Jouw werk en privé leven worden meer lonend\, leuk en leerzaam\n✔ Je hebt gelijkgestemden ‘leren kennen’ en jouw netwerk is aanzienlijk gegroeid. \nHeb je ook behoefte aan meer geluk\, impact & inkomsten (als werknemer\, werkgever\, ondernemer of gewoon voor jou persoonlijk)? En wil je dit op een ontspannen manier en vanuit jouw eigen inspiratie doen en blijven doen? Schrijf je dan hieronder in voor de GRATIS webinar. \n\n\nInschrijven voor deze webinar doe je hier.
URL:https://www.light-works.nu/event/webinar-verlicht-werken-3/
END:VEVENT
BEGIN:VEVENT
DTSTART;TZID=Europe/Helsinki:20170528T100000
DTEND;TZID=Europe/Helsinki:20170528T170000
DTSTAMP:20260423T091132
CREATED:20170408T170756Z
LAST-MODIFIED:20170408T170756Z
UID:3138-1495965600-1495990800@www.light-works.nu
SUMMARY:Workshop Verlicht Werken
DESCRIPTION:Je leert in de workshop hoe je dit contact met jezelf kunt ervaren en vervolgens verankeren. Niet alleen tijdens uren yoga of mediatie\, maar juist in het heetst van de strijd! Bij die enerverende business meeting. Op momenten dat je jezelf en je diensten moet verkopen. En andersom. Je wordt glashelder in je denken en weet precies wat je moet doen. Overvloed stroomt moeiteloos naar jou toe\, ook emotionee & financieel\, en door jou heen de wereld in. \nInschrijving en meer informatie kun je hier vinden.
URL:https://www.light-works.nu/event/workshop-verlicht-werken/
END:VEVENT
BEGIN:VEVENT
DTSTART;TZID=Europe/Helsinki:20170420T183000
DTEND;TZID=Europe/Helsinki:20170420T210000
DTSTAMP:20260423T091132
CREATED:20170414T101140Z
LAST-MODIFIED:20170414T101140Z
UID:3189-1492713000-1492722000@www.light-works.nu
SUMMARY:Verlicht Werken Get together
DESCRIPTION:Bestaat er iets mooiers dan met gelijkgestemden ervaringen te delen\, tips te geven of te krijgen en elkaars successen vieren? Om die reden hebben wij de Verlicht Werken Get Together in het leven geroepen. Deze avond is bedoeld voor verlicht werkers (in spe) die coaching\, workshops\, op-maat- programma’s en het jaarprogramma volgen/hebben gevolg bij elkaar. Op een speelse wijze gaan we aan de slag met diverse technieken rondom connectie en manifestatie. Dit allemaal in een liefdevolle omgeving onder het genot van een heerlijke maaltijd. \nMeer informatie en een inschrijfformulier vind je hier.
URL:https://www.light-works.nu/event/verlicht-werken-get-together/
END:VEVENT
BEGIN:VEVENT
DTSTART;VALUE=DATE:20131201
DTEND;VALUE=DATE:20131202
DTSTAMP:20260423T091132
CREATED:20131022T154229Z
LAST-MODIFIED:20131022T154229Z
UID:85-1385856000-1385942399@www.light-works.nu
SUMMARY:test
DESCRIPTION:test
URL:https://www.light-works.nu/event/test/
END:VEVENT
END:VCALENDAR